BEGIN:VCALENDAR
VERSION:2.0
METHOD:PUBLISH
X-WR-CALNAME:synth.no |  mars 27 2006- april 03 2006
PRODID:-//strange bird labs//Drupal iCal API//EN
BEGIN:VEVENT
DTSTAMP;VALUE=DATE-TIME:20260422T043333Z
DTSTART;VALUE=DATE-TIME:20060327T200000Z
DTEND;VALUE=DATE-TIME:20060327T203000Z
UID:https://synth.no/event/20060318/3244-superjupiter-showcase
URL;VALUE=URI:https://synth.no/event/20060318/3244-superjupiter-showcase
SUMMARY:SuperJupiter Showcase
DESCRIPTION:<div class=\\"flexinode-body flexinode-5\\">
 <div class=\\"flexinode-textarea-1\\">
 <div class=\\"form-item\\">
  description\:</p>
 <p>Gikk du glipp av SuperJupiter i helga\, blir det en ny mulighet på Smuget i kveld!<br />
 Bandet går på scenen kl. 21\:00.</p>
 <p><a href=\\"http\://www.superjupiter.com\\">http\://www.superjupiter.com</a><br />
 <a href=\\"http\://www.smuget.no\\">http\://www.smuget.no</a></p>
 </div>
 </div>
 <div class=\\"flexinode-textfield-2\\">
 <div class=\\"form-item\\">
  Stad\:<br />
  Smuget
 </div>
 </div>
 </div>
 
END:VEVENT
BEGIN:VEVENT
DTSTAMP;VALUE=DATE-TIME:20260422T043333Z
DTSTART;VALUE=DATE-TIME:20060329T190000Z
DTEND;VALUE=DATE-TIME:20060329T190000Z
UID:https://synth.no/event/20060217/3112-ladytron-p-ya-open
URL;VALUE=URI:https://synth.no/event/20060217/3112-ladytron-p-ya-open
SUMMARY:Ladytron på Øya Open
DESCRIPTION:<div class=\\"flexinode-body flexinode-5\\">
 <div class=\\"flexinode-textarea-1\\">
 <div class=\\"form-item\\">
  description\:</p>
 <p><b>ØYA OPEN</b><br />
 Ladytron + Sex Beat + flere<br />
 To scener - fem artister</p>
 <p>Øyafestivalen er glade for å kunne presentere Øya Open. Dette blir en forsmak på sommerens store festivalopplevelse og er en mulighet for publikum å oppleve sjeldne musikalske godbiter fra inn- og utland. Øya Open vil dukke opp i tide og utide. Få med deg den første! Ladytron fra Liverpool er blant de fremste elektropopbanda i verden. Sex Beat (ex-The Beautiful People) lefler med shoegazer-elementene og er blitt beskrevet som britisk postpunk a la Joy Divison blandet med tysk krautelektronica a la Kraftwerk.</p>
 </div>
 </div>
 <div class=\\"flexinode-textfield-2\\">
 <div class=\\"form-item\\">
  Stad\:<br />
  Rockefeller
 </div>
 </div>
 </div>
 
END:VEVENT
BEGIN:VEVENT
DTSTAMP;VALUE=DATE-TIME:20260422T043333Z
DTSTART;VALUE=DATE-TIME:20060331T205900Z
DTEND;VALUE=DATE-TIME:20060401T020000Z
UID:https://synth.no/event/20060302/3186-d4rkorg-med-where-angels-fall-og-prodigy
URL;VALUE=URI:https://synth.no/event/20060302/3186-d4rkorg-med-where-angels-fall-og-prodigy
SUMMARY:D4RK.org med Where Angels Fall og The Prodigy
DESCRIPTION:<div class=\\"flexinode-body flexinode-5\\">
 <div class=\\"flexinode-textarea-1\\">
 <div class=\\"form-item\\">
  description\:</p>
 <p>Denne gangen krasjer det ikke med Gotham Nights! \:-)</p>
 <p><b>Headliners\: Where Angels Fall &amp\; The Prodigy</b></p>
 <p>22\:00 - Videolounge<br />
 22\:15 - The Prodigy (videokonsert)<br />
 23\:15 - DJ Halfface<br />
 00\:15 - Where Angels Fall<br />
 01\:15 - DJ Elektronika<br />
 02\:15 - DJ Neu</p>
 <p><b>The Prodigy</b><br />
 I 1997 var en konsert med The Prodigy noe av det feteste man kunne oppleve!<br />
 Ingen andre band hadde klart å blande punkrock og elektronica så vellykket\, og at bandet som egentlig bestod av en DJ og 3 dansere(!) skulle levere høy-energisk stadiumrock\, hadde vært utenkelig få år tidligere!<br />
 <b>Dukker du opp tidsnok hos oss får du gjenoppleve energien på storskjerm og med glimrende PA lyd!</b></p>
 </div>
 </div>
 </div>
 
END:VEVENT
BEGIN:VEVENT
DTSTAMP;VALUE=DATE-TIME:20260422T043333Z
DTSTART;VALUE=DATE-TIME:20060401T200000Z
DTEND;VALUE=DATE-TIME:20060401T200000Z
UID:https://synth.no/event/20060321/3263-covenant-spetsnaz-stockholm
URL;VALUE=URI:https://synth.no/event/20060321/3263-covenant-spetsnaz-stockholm
SUMMARY:Covenant + Spetsnaz (Stockholm)
DESCRIPTION:<div class=\\"flexinode-body flexinode-5\\">
 <div class=\\"flexinode-textarea-1\\">
 <div class=\\"form-item\\">
  description\:</p>
 <p>Live on stage\:</p>
 <p><b>Covenant</b><br />
 Support\: <b>Spetsnaz</b></p>
 <p>Covenant has established themselves as the premier scandinavian electronic music band. With their recently released album Skyshaper\, they raise the bar on what musical perfection truly is. The single Ritual Noise even put Depeche Mode to shame on the german alternative charts (DAC) recently. Experience an intimate yet full-blown live show with the band on a concert and a clubnight to remember.</p>
 <p>The hard-hitting duo Spetsnaz will be supporting their fellow countrymen\, likewise touring heavily in conjunction with their recently released album Totalitär. Spetsnaz still resembles some of the old EBM gigants\, but evolving their concept without strict boundaries.</p>
 </div>
 </div>
 <div class=\\"flexinode-textfield-2\\">
 <div class=\\"form-item\\">
  Stad\:<br />
  Stockholm University Allhuset
 </div>
 </div>
 </div>
 
END:VEVENT
END:VCALENDAR
