BEGIN:VCALENDAR
VERSION:2.0
METHOD:PUBLISH
X-WR-CALNAME:synth.no |  juli 28 2005- august 27 2005
PRODID:-//strange bird labs//Drupal iCal API//EN
BEGIN:VEVENT
DTSTAMP;VALUE=DATE-TIME:20260419T124536Z
DTSTART;VALUE=DATE-TIME:20050813T140000Z
DTEND;VALUE=DATE-TIME:20050813T140000Z
UID:https://synth.no/event/20050404/1728-mera-luna-festival-2005
URL;VALUE=URI:https://synth.no/event/20050404/1728-mera-luna-festival-2005
SUMMARY:M'era Luna Festival 2005
DESCRIPTION:<div class=\\"flexinode-body flexinode-5\\">
 <div class=\\"flexinode-textarea-1\\">
 <div class=\\"form-item\\">
  description\:</p>
 <p><b>M'era Luna Festival 2005\: 13.08 &amp\; 14.08.2005</b></p>
 <p>Artister\:</p>
 <p>THE SISTERS OF MERCY<br />
 SKINNY PUPPY<br />
 VNV NATION<br />
 DEINE LAKAIEN<br />
 SUBWAY TO SALLY<br />
 HOCICO<br />
 THE KLINIK<br />
 DIARY OF DREAMS<br />
 LACUNA COIL<br />
 THE 69 EYES<br />
 THE CRÜXSHADOWS<br />
 MELOTRON<br />
 TRISOMIE 21<br />
 SCHANDMAUL<br />
 COMBICHRIST<br />
 ZERAPHINE<br />
 NFD<br />
 THE BIRTHDAY MASSACRE<br />
 AUTUMN<br />
 ATROCITY<br />
 AMDUSCIA<br />
 LEAVES EYES<br />
 FLESH FIELD<br />
 POTENTIA ANIMI<br />
 GÅTE<br />
 FAUN<br />
 KIEW<br />
 QNTAL<br />
 CEPHALGY<br />
 THE VISION BLEAK<br />
 [\:SITD\:]<br />
 THE NEON JUDGEMENT<br />
 OSIRIS TAURUS<br />
 SCREAM SILENCE<br />
 IN MITRA MEDUSA INRI<br />
 KLIMT 1918<br />
 STAUBKIND<br />
 LIMBOGOTT</p>
 </div>
 </div>
 <div class=\\"flexinode-textfield-2\\">
 <div class=\\"form-item\\">
  Stad\:<br />
  Hildesheim (Deutschland)
 </div>
 </div>
 </div>
 
END:VEVENT
BEGIN:VEVENT
DTSTAMP;VALUE=DATE-TIME:20260419T124536Z
DTSTART;VALUE=DATE-TIME:20050824T190000Z
DTEND;VALUE=DATE-TIME:20050824T190000Z
UID:https://synth.no/event/20050818/2335-mambokurt-tilbake-til-oslo
URL;VALUE=URI:https://synth.no/event/20050818/2335-mambokurt-tilbake-til-oslo
SUMMARY:MamboKurt tilbake til Oslo!
DESCRIPTION:<div class=\\"flexinode-body flexinode-5\\">
 <div class=\\"flexinode-textarea-1\\">
 <div class=\\"form-item\\">
  description\:</p>
 <p>MamboKurt tilbake i Oslo!</p>
 <p>MamboKurt is back! Det går ikke ann å arrangere STUDiO uten MamboKurt. Så<br />
 i år slår vi på stortromma og kjører utekonsert i Betonghaven onsdag 24.<br />
 august. Gamle klassikere får ny drakt og det er mye å ta av skal du vite.<br />
 \\"Mannen står for den mest legendariske konserten i STUDiOs historie!\\" sier en entusiastisk Torbjørn Valum (leder i STUDiO 05). I 2002 spilte han i Festivalteltet\, og etter konserten talte vi knuste bord og andre objekter i hopetall. Alle 500 i teltet hadde danset til lokalet gav etter \:) </p>
 <p>Utekonserten er i Betonghaven på Studentersamfundet Chateau Neuf 24. august. Billetten koster 100\,- og er kun til salgs i døra den aktuelle kvelden. Konserten skal være ferdig til 23.00 på grunn av norske lydbestemmelser\, så møt opp tidlig!</p>
 </div>
 </div>
 <div class=\\"flexinode-textfield-2\\">
 <div class=\\"form-item\\">
  Stad\:<br />
  Studentersamfundet Chateau Neuf
 </div>
 </div>
 </div>
 
END:VEVENT
BEGIN:VEVENT
DTSTAMP;VALUE=DATE-TIME:20260419T124536Z
DTSTART;VALUE=DATE-TIME:20050826T190000Z
DTEND;VALUE=DATE-TIME:20050827T010000Z
UID:https://synth.no/event/20050826/2382-mental-overdrive-mfl
URL;VALUE=URI:https://synth.no/event/20050826/2382-mental-overdrive-mfl
SUMMARY:Mental Overdrive m.fl.
DESCRIPTION:<div class=\\"flexinode-body flexinode-5\\">
 <div class=\\"flexinode-textarea-1\\">
 <div class=\\"form-item\\">
  description\:</p>
 <p>SMALLTOWN SUPERSOUND LABEL NIGHT\:<br />
 KIM HIORTHØY (LIVE)<br />
 TUSSLE (US) (LIVE)<br />
 MENTAL OVERDRIVE (LIVE)<br />
 JOAKIM HAUGLAND (DJ)<br />
 PER MARTINSEN (DJ)<br />
 Bjørn torske (DJ)<br />
 21\:00 / ENTRÉ\: 120\,- MEDLEM\: 70\,-</p>
 <p>Smalltown Supersound smeller til med en ny utgave av sine populære label nights\, dette er første gang siden 10 års jubileums konsertene for halvannet år siden. Denne gang presenterer labelen sin nye signing\, San Francisco bandet Tussle. I tillegg spiller Mental Overdrive live og Kim Hiorthøy gjør sin eneste Oslo konsert i år\, bare det er verdt billetten alene. Bak platespillerene står Smalltown Supersound grunnlegger Joakim Haugland og Per Martinsen med venner. På salgsstanden får du kjøpt ny t-shirt og ny 12’’ av Kim Hiorthøy! </p>
 </div>
 </div>
 <div class=\\"flexinode-textfield-2\\">
 <div class=\\"form-item\\">
  Stad\:<br />
  Blå\, Oslo
 </div>
 </div>
 </div>
 
END:VEVENT
BEGIN:VEVENT
DTSTAMP;VALUE=DATE-TIME:20260419T124536Z
DTSTART;VALUE=DATE-TIME:20050826T200000Z
DTEND;VALUE=DATE-TIME:20050826T200000Z
UID:https://synth.no/event/20050807/2280-chicks-speed
URL;VALUE=URI:https://synth.no/event/20050807/2280-chicks-speed
SUMMARY:Chicks On Speed
DESCRIPTION:<div class=\\"flexinode-body flexinode-5\\">
 <div class=\\"flexinode-textarea-1\\">
 <div class=\\"form-item\\">
  description\:</p>
 <p>Chicks On Speed kommer til Kvarteret fredag 26 August \:D</p>
 </div>
 </div>
 <div class=\\"flexinode-textfield-2\\">
 <div class=\\"form-item\\">
  Stad\:<br />
  Bergen
 </div>
 </div>
 </div>
 
END:VEVENT
BEGIN:VEVENT
DTSTAMP;VALUE=DATE-TIME:20260419T124536Z
DTSTART;VALUE=DATE-TIME:20050826T200000Z
DTEND;VALUE=DATE-TIME:20050827T010000Z
UID:https://synth.no/event/20050824/2374-pay-tv-urs
URL;VALUE=URI:https://synth.no/event/20050824/2374-pay-tv-urs
SUMMARY:Pay Tv @ Up Urs!
DESCRIPTION:<div class=\\"flexinode-body flexinode-5\\">
 <div class=\\"flexinode-textarea-1\\">
 <div class=\\"form-item\\">
  description\:</p>
 <p>Noen vil sikkert huske Pay TV fra svensk Melodifestival.</p>
 <p>De deltok i 2004 med låta «Trendy Discoteque» og i 2005 med låta «Refrain\, Refrain».</p>
 <p>Nå kommer jentene til Oslo og sinPecado fredag 26. august!</p>
 <p>Klubben Up Urs! så sitt snitt idet den tradisjonelle kvinnekvelden pakket sakene og dro sin kos fra sinPecado. Nå inviterer Up Urs! til «nesten som en hjemme-hos-fest» fredag 26. august.</p>
 <p>Pay Tv vant aldri Grand Prix\, men klarte å terge på seg electroclash fans og Grand Prix fans. På toppen av det hele fikk de hitlåter begge gangene.</p>
 <p>Hjernen bak hele Pay Tv prosjektet er produsent/Dj Håkan Lidbo og frilansejournalist Ulrika Lidbo. Ekteparet sendte Pay Tv inn i det hellige Grand Prix showet i 2004 med låta «Trendy Discoteque». </p>
 </div>
 </div>
 <div class=\\"flexinode-textfield-2\\">
 <div class=\\"form-item\\">
  Stad\:<br />
  sinPecado
 </div>
 </div>
 </div>
 
END:VEVENT
END:VCALENDAR
